BEGIN:VCALENDAR
VERSION:2.0
PRODID:https://www.kufer.de/kuferweb / DE
METHOD:PUBLISH
CALSCALE:GREGORIAN
X-WR-TIMEZONE:Europe/Berlin
BEGIN:VTIMEZONE
TZID:Europe/Berlin
X-LIC-LOCATION:Europe/Berlin
BEGIN:DAYLIGHT
TZOFFSETFROM:+0100
TZOFFSETTO:+0200
TZNAME:CEST
DTSTART:19700329T020000
RRULE:FREQ=YEARLY;INTERVAL=1;BYDAY=-1SU;BYMONTH=3
END:DAYLIGHT
BEGIN:STANDARD
TZOFFSETFROM:+0200
TZOFFSETTO:+0100
TZNAME:CET
DTSTART:19701025T030000
RRULE:FREQ=YEARLY;INTERVAL=1;BYDAY=-1SU;BYMONTH=10
END:STANDARD
END:VTIMEZONE
BEGIN:VEVENT
DTSTAMP:20260420T155750
DTSTART;TZID=Europe/Berlin:20260425T160000
DTEND;TZID=Europe/Berlin:20260425T200000
UID:261 REI 03-20260425T160000@VBWKLARENTHAL
SUMMARY:Bildungsurlaub Fastenwandern "Buchinger Fasten" und Yoga - Gesund und leistungsfähig im Berufsalltag durch Bewegung, Entspannung und Fasten. (261 REI 03) 
LOCATION:Stadecken Elsheim, Das Höfchen, , 
END:VEVENT
BEGIN:VEVENT
DTSTAMP:20260420T155750
DTSTART;TZID=Europe/Berlin:20260426T073000
DTEND;TZID=Europe/Berlin:20260426T200000
UID:261 REI 03-20260426T073000@VBWKLARENTHAL
SUMMARY:Bildungsurlaub Fastenwandern "Buchinger Fasten" und Yoga - Gesund und leistungsfähig im Berufsalltag durch Bewegung, Entspannung und Fasten. (261 REI 03) 
LOCATION:Stadecken Elsheim, Das Höfchen, , 
END:VEVENT
BEGIN:VEVENT
DTSTAMP:20260420T155750
DTSTART;TZID=Europe/Berlin:20260427T073000
DTEND;TZID=Europe/Berlin:20260427T200000
UID:261 REI 03-20260427T073000@VBWKLARENTHAL
SUMMARY:Bildungsurlaub Fastenwandern "Buchinger Fasten" und Yoga - Gesund und leistungsfähig im Berufsalltag durch Bewegung, Entspannung und Fasten. (261 REI 03) 
LOCATION:Stadecken Elsheim, Das Höfchen, , 
END:VEVENT
BEGIN:VEVENT
DTSTAMP:20260420T155750
DTSTART;TZID=Europe/Berlin:20260428T073000
DTEND;TZID=Europe/Berlin:20260428T200000
UID:261 REI 03-20260428T073000@VBWKLARENTHAL
SUMMARY:Bildungsurlaub Fastenwandern "Buchinger Fasten" und Yoga - Gesund und leistungsfähig im Berufsalltag durch Bewegung, Entspannung und Fasten. (261 REI 03) 
LOCATION:Stadecken Elsheim, Das Höfchen, , 
END:VEVENT
BEGIN:VEVENT
DTSTAMP:20260420T155750
DTSTART;TZID=Europe/Berlin:20260429T073000
DTEND;TZID=Europe/Berlin:20260429T200000
UID:261 REI 03-20260429T073000@VBWKLARENTHAL
SUMMARY:Bildungsurlaub Fastenwandern "Buchinger Fasten" und Yoga - Gesund und leistungsfähig im Berufsalltag durch Bewegung, Entspannung und Fasten. (261 REI 03) 
LOCATION:Stadecken Elsheim, Das Höfchen, , 
END:VEVENT
BEGIN:VEVENT
DTSTAMP:20260420T155750
DTSTART;TZID=Europe/Berlin:20260430T073000
DTEND;TZID=Europe/Berlin:20260430T200000
UID:261 REI 03-20260430T073000@VBWKLARENTHAL
SUMMARY:Bildungsurlaub Fastenwandern "Buchinger Fasten" und Yoga - Gesund und leistungsfähig im Berufsalltag durch Bewegung, Entspannung und Fasten. (261 REI 03) 
LOCATION:Stadecken Elsheim, Das Höfchen, , 
END:VEVENT
BEGIN:VEVENT
DTSTAMP:20260420T155750
DTSTART;TZID=Europe/Berlin:20260501T073000
DTEND;TZID=Europe/Berlin:20260501T110000
UID:261 REI 03-20260501T073000@VBWKLARENTHAL
SUMMARY:Bildungsurlaub Fastenwandern "Buchinger Fasten" und Yoga - Gesund und leistungsfähig im Berufsalltag durch Bewegung, Entspannung und Fasten. (261 REI 03) 
LOCATION:Stadecken Elsheim, Das Höfchen, , 
END:VEVENT
END:VCALENDAR