BEGIN:VCALENDAR
VERSION:2.0
PRODID:https://www.kufer.de/kuferweb / DE
METHOD:PUBLISH
CALSCALE:GREGORIAN
X-WR-TIMEZONE:Europe/Berlin
BEGIN:VTIMEZONE
TZID:Europe/Berlin
X-LIC-LOCATION:Europe/Berlin
BEGIN:DAYLIGHT
TZOFFSETFROM:+0100
TZOFFSETTO:+0200
TZNAME:CEST
DTSTART:19700329T020000
RRULE:FREQ=YEARLY;INTERVAL=1;BYDAY=-1SU;BYMONTH=3
END:DAYLIGHT
BEGIN:STANDARD
TZOFFSETFROM:+0200
TZOFFSETTO:+0100
TZNAME:CET
DTSTART:19701025T030000
RRULE:FREQ=YEARLY;INTERVAL=1;BYDAY=-1SU;BYMONTH=10
END:STANDARD
END:VTIMEZONE
BEGIN:VEVENT
DTSTAMP:20260422T130006
DTSTART;TZID=Europe/Berlin:20260912T100000
DTEND;TZID=Europe/Berlin:20260912T210000
UID:262 REI 11-20260912T100000@VBWKLARENTHAL
SUMMARY:Südtirol - Stressbewältigung durch Achtsamkeit - Bildungsurlaub zum Erwerb von Fähigkeiten zur Stressbewältigung in Beruf und Alltag (262 REI 11) 
LOCATION:Eigene Anreise nach Südtirol, , 
END:VEVENT
BEGIN:VEVENT
DTSTAMP:20260422T130006
DTSTART;TZID=Europe/Berlin:20260913T073000
DTEND;TZID=Europe/Berlin:20260913T210000
UID:262 REI 11-20260913T073000@VBWKLARENTHAL
SUMMARY:Südtirol - Stressbewältigung durch Achtsamkeit - Bildungsurlaub zum Erwerb von Fähigkeiten zur Stressbewältigung in Beruf und Alltag (262 REI 11) 
LOCATION:Eigene Anreise nach Südtirol, , 
END:VEVENT
BEGIN:VEVENT
DTSTAMP:20260422T130006
DTSTART;TZID=Europe/Berlin:20260914T073000
DTEND;TZID=Europe/Berlin:20260914T210000
UID:262 REI 11-20260914T073000@VBWKLARENTHAL
SUMMARY:Südtirol - Stressbewältigung durch Achtsamkeit - Bildungsurlaub zum Erwerb von Fähigkeiten zur Stressbewältigung in Beruf und Alltag (262 REI 11) 
LOCATION:Eigene Anreise nach Südtirol, , 
END:VEVENT
BEGIN:VEVENT
DTSTAMP:20260422T130006
DTSTART;TZID=Europe/Berlin:20260915T073000
DTEND;TZID=Europe/Berlin:20260915T210000
UID:262 REI 11-20260915T073000@VBWKLARENTHAL
SUMMARY:Südtirol - Stressbewältigung durch Achtsamkeit - Bildungsurlaub zum Erwerb von Fähigkeiten zur Stressbewältigung in Beruf und Alltag (262 REI 11) 
LOCATION:Eigene Anreise nach Südtirol, , 
END:VEVENT
BEGIN:VEVENT
DTSTAMP:20260422T130006
DTSTART;TZID=Europe/Berlin:20260916T073000
DTEND;TZID=Europe/Berlin:20260916T210000
UID:262 REI 11-20260916T073000@VBWKLARENTHAL
SUMMARY:Südtirol - Stressbewältigung durch Achtsamkeit - Bildungsurlaub zum Erwerb von Fähigkeiten zur Stressbewältigung in Beruf und Alltag (262 REI 11) 
LOCATION:Eigene Anreise nach Südtirol, , 
END:VEVENT
BEGIN:VEVENT
DTSTAMP:20260422T130006
DTSTART;TZID=Europe/Berlin:20260917T073000
DTEND;TZID=Europe/Berlin:20260917T210000
UID:262 REI 11-20260917T073000@VBWKLARENTHAL
SUMMARY:Südtirol - Stressbewältigung durch Achtsamkeit - Bildungsurlaub zum Erwerb von Fähigkeiten zur Stressbewältigung in Beruf und Alltag (262 REI 11) 
LOCATION:Eigene Anreise nach Südtirol, , 
END:VEVENT
BEGIN:VEVENT
DTSTAMP:20260422T130006
DTSTART;TZID=Europe/Berlin:20260918T073000
DTEND;TZID=Europe/Berlin:20260918T210000
UID:262 REI 11-20260918T073000@VBWKLARENTHAL
SUMMARY:Südtirol - Stressbewältigung durch Achtsamkeit - Bildungsurlaub zum Erwerb von Fähigkeiten zur Stressbewältigung in Beruf und Alltag (262 REI 11) 
LOCATION:Eigene Anreise nach Südtirol, , 
END:VEVENT
BEGIN:VEVENT
DTSTAMP:20260422T130006
DTSTART;TZID=Europe/Berlin:20260919T073000
DTEND;TZID=Europe/Berlin:20260919T100000
UID:262 REI 11-20260919T073000@VBWKLARENTHAL
SUMMARY:Südtirol - Stressbewältigung durch Achtsamkeit - Bildungsurlaub zum Erwerb von Fähigkeiten zur Stressbewältigung in Beruf und Alltag (262 REI 11) 
LOCATION:Eigene Anreise nach Südtirol, , 
END:VEVENT
END:VCALENDAR