BEGIN:VCALENDAR
VERSION:2.0
PRODID:https://www.kufer.de/kuferweb / DE
METHOD:PUBLISH
CALSCALE:GREGORIAN
X-WR-TIMEZONE:Europe/Berlin
BEGIN:VTIMEZONE
TZID:Europe/Berlin
X-LIC-LOCATION:Europe/Berlin
BEGIN:DAYLIGHT
TZOFFSETFROM:+0100
TZOFFSETTO:+0200
TZNAME:CEST
DTSTART:19700329T020000
RRULE:FREQ=YEARLY;INTERVAL=1;BYDAY=-1SU;BYMONTH=3
END:DAYLIGHT
BEGIN:STANDARD
TZOFFSETFROM:+0200
TZOFFSETTO:+0100
TZNAME:CET
DTSTART:19701025T030000
RRULE:FREQ=YEARLY;INTERVAL=1;BYDAY=-1SU;BYMONTH=10
END:STANDARD
END:VTIMEZONE
BEGIN:VEVENT
DTSTAMP:20260424T121305
DTSTART;TZID=Europe/Berlin:20260805T090000
DTEND;TZID=Europe/Berlin:20260805T110000
UID:262 SEN 28-20260805T090000@VBWKLARENTHAL
SUMMARY:Beratungsstelle für selbständiges Leben im Alter (262 SEN 28) 
LOCATION:Graf von Galen Str. 34, Klarenthal, , 
END:VEVENT
BEGIN:VEVENT
DTSTAMP:20260424T121305
DTSTART;TZID=Europe/Berlin:20260819T090000
DTEND;TZID=Europe/Berlin:20260819T110000
UID:262 SEN 28-20260819T090000@VBWKLARENTHAL
SUMMARY:Beratungsstelle für selbständiges Leben im Alter (262 SEN 28) 
LOCATION:Graf von Galen Str. 34, Klarenthal, , 
END:VEVENT
BEGIN:VEVENT
DTSTAMP:20260424T121305
DTSTART;TZID=Europe/Berlin:20260902T090000
DTEND;TZID=Europe/Berlin:20260902T110000
UID:262 SEN 28-20260902T090000@VBWKLARENTHAL
SUMMARY:Beratungsstelle für selbständiges Leben im Alter (262 SEN 28) 
LOCATION:Graf von Galen Str. 34, Klarenthal, , 
END:VEVENT
BEGIN:VEVENT
DTSTAMP:20260424T121305
DTSTART;TZID=Europe/Berlin:20260916T090000
DTEND;TZID=Europe/Berlin:20260916T110000
UID:262 SEN 28-20260916T090000@VBWKLARENTHAL
SUMMARY:Beratungsstelle für selbständiges Leben im Alter (262 SEN 28) 
LOCATION:Graf von Galen Str. 34, Klarenthal, , 
END:VEVENT
BEGIN:VEVENT
DTSTAMP:20260424T121305
DTSTART;TZID=Europe/Berlin:20261007T090000
DTEND;TZID=Europe/Berlin:20261007T110000
UID:262 SEN 28-20261007T090000@VBWKLARENTHAL
SUMMARY:Beratungsstelle für selbständiges Leben im Alter (262 SEN 28) 
LOCATION:Graf von Galen Str. 34, Klarenthal, , 
END:VEVENT
BEGIN:VEVENT
DTSTAMP:20260424T121305
DTSTART;TZID=Europe/Berlin:20261021T090000
DTEND;TZID=Europe/Berlin:20261021T110000
UID:262 SEN 28-20261021T090000@VBWKLARENTHAL
SUMMARY:Beratungsstelle für selbständiges Leben im Alter (262 SEN 28) 
LOCATION:Graf von Galen Str. 34, Klarenthal, , 
END:VEVENT
BEGIN:VEVENT
DTSTAMP:20260424T121305
DTSTART;TZID=Europe/Berlin:20261104T090000
DTEND;TZID=Europe/Berlin:20261104T110000
UID:262 SEN 28-20261104T090000@VBWKLARENTHAL
SUMMARY:Beratungsstelle für selbständiges Leben im Alter (262 SEN 28) 
LOCATION:Graf von Galen Str. 34, Klarenthal, , 
END:VEVENT
BEGIN:VEVENT
DTSTAMP:20260424T121305
DTSTART;TZID=Europe/Berlin:20261118T090000
DTEND;TZID=Europe/Berlin:20261118T110000
UID:262 SEN 28-20261118T090000@VBWKLARENTHAL
SUMMARY:Beratungsstelle für selbständiges Leben im Alter (262 SEN 28) 
LOCATION:Graf von Galen Str. 34, Klarenthal, , 
END:VEVENT
BEGIN:VEVENT
DTSTAMP:20260424T121305
DTSTART;TZID=Europe/Berlin:20261202T090000
DTEND;TZID=Europe/Berlin:20261202T110000
UID:262 SEN 28-20261202T090000@VBWKLARENTHAL
SUMMARY:Beratungsstelle für selbständiges Leben im Alter (262 SEN 28) 
LOCATION:Graf von Galen Str. 34, Klarenthal, , 
END:VEVENT
BEGIN:VEVENT
DTSTAMP:20260424T121305
DTSTART;TZID=Europe/Berlin:20261216T090000
DTEND;TZID=Europe/Berlin:20261216T110000
UID:262 SEN 28-20261216T090000@VBWKLARENTHAL
SUMMARY:Beratungsstelle für selbständiges Leben im Alter (262 SEN 28) 
LOCATION:Graf von Galen Str. 34, Klarenthal, , 
END:VEVENT
END:VCALENDAR