BEGIN:VCALENDAR
VERSION:2.0
PRODID:https://www.kufer.de/kuferweb / DE
METHOD:PUBLISH
CALSCALE:GREGORIAN
X-WR-TIMEZONE:Europe/Berlin
BEGIN:VTIMEZONE
TZID:Europe/Berlin
X-LIC-LOCATION:Europe/Berlin
BEGIN:DAYLIGHT
TZOFFSETFROM:+0100
TZOFFSETTO:+0200
TZNAME:CEST
DTSTART:19700329T020000
RRULE:FREQ=YEARLY;INTERVAL=1;BYDAY=-1SU;BYMONTH=3
END:DAYLIGHT
BEGIN:STANDARD
TZOFFSETFROM:+0200
TZOFFSETTO:+0100
TZNAME:CET
DTSTART:19701025T030000
RRULE:FREQ=YEARLY;INTERVAL=1;BYDAY=-1SU;BYMONTH=10
END:STANDARD
END:VTIMEZONE
BEGIN:VEVENT
DTSTAMP:20260425T123306
DTSTART;TZID=Europe/Berlin:20260812T090000
DTEND;TZID=Europe/Berlin:20260812T110000
UID:262 SEN 29-20260812T090000@VBWKLARENTHAL
SUMMARY:Beratungsstelle für selbständiges Leben im Alter (262 SEN 29) 
LOCATION:Bewegungscafé Hermann-Brill-Str. 4, , 
END:VEVENT
BEGIN:VEVENT
DTSTAMP:20260425T123306
DTSTART;TZID=Europe/Berlin:20260826T090000
DTEND;TZID=Europe/Berlin:20260826T110000
UID:262 SEN 29-20260826T090000@VBWKLARENTHAL
SUMMARY:Beratungsstelle für selbständiges Leben im Alter (262 SEN 29) 
LOCATION:Bewegungscafé Hermann-Brill-Str. 4, , 
END:VEVENT
BEGIN:VEVENT
DTSTAMP:20260425T123306
DTSTART;TZID=Europe/Berlin:20260909T090000
DTEND;TZID=Europe/Berlin:20260909T110000
UID:262 SEN 29-20260909T090000@VBWKLARENTHAL
SUMMARY:Beratungsstelle für selbständiges Leben im Alter (262 SEN 29) 
LOCATION:Bewegungscafé Hermann-Brill-Str. 4, , 
END:VEVENT
BEGIN:VEVENT
DTSTAMP:20260425T123306
DTSTART;TZID=Europe/Berlin:20260923T090000
DTEND;TZID=Europe/Berlin:20260923T110000
UID:262 SEN 29-20260923T090000@VBWKLARENTHAL
SUMMARY:Beratungsstelle für selbständiges Leben im Alter (262 SEN 29) 
LOCATION:Bewegungscafé Hermann-Brill-Str. 4, , 
END:VEVENT
BEGIN:VEVENT
DTSTAMP:20260425T123306
DTSTART;TZID=Europe/Berlin:20261014T090000
DTEND;TZID=Europe/Berlin:20261014T110000
UID:262 SEN 29-20261014T090000@VBWKLARENTHAL
SUMMARY:Beratungsstelle für selbständiges Leben im Alter (262 SEN 29) 
LOCATION:Bewegungscafé Hermann-Brill-Str. 4, , 
END:VEVENT
BEGIN:VEVENT
DTSTAMP:20260425T123306
DTSTART;TZID=Europe/Berlin:20261028T090000
DTEND;TZID=Europe/Berlin:20261028T110000
UID:262 SEN 29-20261028T090000@VBWKLARENTHAL
SUMMARY:Beratungsstelle für selbständiges Leben im Alter (262 SEN 29) 
LOCATION:Bewegungscafé Hermann-Brill-Str. 4, , 
END:VEVENT
BEGIN:VEVENT
DTSTAMP:20260425T123306
DTSTART;TZID=Europe/Berlin:20261111T090000
DTEND;TZID=Europe/Berlin:20261111T110000
UID:262 SEN 29-20261111T090000@VBWKLARENTHAL
SUMMARY:Beratungsstelle für selbständiges Leben im Alter (262 SEN 29) 
LOCATION:Bewegungscafé Hermann-Brill-Str. 4, , 
END:VEVENT
BEGIN:VEVENT
DTSTAMP:20260425T123306
DTSTART;TZID=Europe/Berlin:20261125T090000
DTEND;TZID=Europe/Berlin:20261125T110000
UID:262 SEN 29-20261125T090000@VBWKLARENTHAL
SUMMARY:Beratungsstelle für selbständiges Leben im Alter (262 SEN 29) 
LOCATION:Bewegungscafé Hermann-Brill-Str. 4, , 
END:VEVENT
BEGIN:VEVENT
DTSTAMP:20260425T123306
DTSTART;TZID=Europe/Berlin:20261209T090000
DTEND;TZID=Europe/Berlin:20261209T110000
UID:262 SEN 29-20261209T090000@VBWKLARENTHAL
SUMMARY:Beratungsstelle für selbständiges Leben im Alter (262 SEN 29) 
LOCATION:Bewegungscafé Hermann-Brill-Str. 4, , 
END:VEVENT
END:VCALENDAR